BEGIN:VCALENDAR
VERSION:2.0
PRODID:-//Tukios.com/
BEGIN:VEVENT
UID:02c85865-fcd7-47a0-93ba-3793b6b3547c@www.andersonmemorialpark.com
DTSTAMP:20260421T172044Z
DTSTART:20260423T170000Z
DTEND:20260423T180000Z
SUMMARY:Graveside Service
DESCRIPTION:
URL:https://www.andersonmemorialpark.com/obituaries/jeanne-brundage
LOCATION:Anderson Memorial Park 6805 Doctor Martin Luther King Junior 
	Boulevard  Anderson IN 46013
GEO:40.0440609;-85.7264188
END:VEVENT
END:VCALENDAR