BEGIN:VCALENDAR
VERSION:2.0
PRODID:-//Tukios.com/
BEGIN:VEVENT
UID:ae21f690-5c14-48b9-8aef-0183103edaeb@www.andersonmemorialpark.com
DTSTAMP:20260421T013609Z
DTSTART:20260428T183000Z
DTEND:20260428T193000Z
SUMMARY:Graveside Service
DESCRIPTION:
URL:https://www.andersonmemorialpark.com/obituaries/retta-myers-stanson
LOCATION:Anderson Memorial Park Cemetery 6805 Doctor Martin Luther King 
	Junior Boulevard  Anderson IN 46013
GEO:40.0440609;-85.7264188
END:VEVENT
END:VCALENDAR